BEGIN:VCALENDAR
VERSION:2.0
PRODID:-//Les Anciennes Terres - ECPv6.0.11//NONSGML v1.0//EN
CALSCALE:GREGORIAN
METHOD:PUBLISH
X-WR-CALNAME:Les Anciennes Terres
X-ORIGINAL-URL:https://lesanciennesterres.net
X-WR-CALDESC:Events for Les Anciennes Terres
REFRESH-INTERVAL;VALUE=DURATION:PT1H
X-Robots-Tag:noindex
X-PUBLISHED-TTL:PT1H
BEGIN:VTIMEZONE
TZID:Europe/Zurich
BEGIN:DAYLIGHT
TZOFFSETFROM:+0100
TZOFFSETTO:+0200
TZNAME:CEST
DTSTART:20250330T010000
END:DAYLIGHT
BEGIN:STANDARD
TZOFFSETFROM:+0200
TZOFFSETTO:+0100
TZNAME:CET
DTSTART:20251026T010000
END:STANDARD
END:VTIMEZONE
BEGIN:VEVENT
DTSTART;TZID=Europe/Zurich:20250116T210000
DTEND;TZID=Europe/Zurich:20250116T220000
DTSTAMP:20260423T234838
CREATED:20241105T145256Z
LAST-MODIFIED:20241111T115008Z
UID:10887-1737061200-1737064800@lesanciennesterres.net
SUMMARY:Cassandre
DESCRIPTION:À l’intérieur de la ville assiégée\, une princesse troyenne subit la malédiction d’Apollon\, celle de prédire l’avenir et de n’être jamais crue. Troie n’échappera pas à son destin et Cassandre non plus. Il ne fait pas bon résister à un dieu. Une parole élaborée dans les profondeurs du mythe\, là où se tiennent les poètes et leurs muses\, parvient à déchirer le voile entre hier et aujourd’hui. Troie et au-delà vu par Cassandre\, comme si vous y étiez.
URL:https://lesanciennesterres.net/spectacle/cassandre/
LOCATION:Le Nouveau Monde\, Esplanade de l'Ancienne Gare 3\, Fribourg\, 1700
CATEGORIES:Ados | adultes
ATTACH;FMTTYPE=image/jpeg:https://lesanciennesterres.net/wp-content/uploads/2024/11/cassandre-1.jpg
END:VEVENT
END:VCALENDAR